BEGIN:VCALENDAR
VERSION:2.0
PRODID:-//VELA - ECPv6.15.20//NONSGML v1.0//EN
CALSCALE:GREGORIAN
METHOD:PUBLISH
X-ORIGINAL-URL:https://vela.nl
X-WR-CALDESC:Evenementen voor VELA
REFRESH-INTERVAL;VALUE=DURATION:PT1H
X-Robots-Tag:noindex
X-PUBLISHED-TTL:PT1H
BEGIN:VTIMEZONE
TZID:Europe/Amsterdam
BEGIN:DAYLIGHT
TZOFFSETFROM:+0100
TZOFFSETTO:+0200
TZNAME:CEST
DTSTART:20250330T010000
END:DAYLIGHT
BEGIN:STANDARD
TZOFFSETFROM:+0200
TZOFFSETTO:+0100
TZNAME:CET
DTSTART:20251026T010000
END:STANDARD
BEGIN:DAYLIGHT
TZOFFSETFROM:+0100
TZOFFSETTO:+0200
TZNAME:CEST
DTSTART:20260329T010000
END:DAYLIGHT
BEGIN:STANDARD
TZOFFSETFROM:+0200
TZOFFSETTO:+0100
TZNAME:CET
DTSTART:20261025T010000
END:STANDARD
BEGIN:DAYLIGHT
TZOFFSETFROM:+0100
TZOFFSETTO:+0200
TZNAME:CEST
DTSTART:20270328T010000
END:DAYLIGHT
BEGIN:STANDARD
TZOFFSETFROM:+0200
TZOFFSETTO:+0100
TZNAME:CET
DTSTART:20271031T010000
END:STANDARD
END:VTIMEZONE
BEGIN:VEVENT
DTSTART;TZID=Europe/Amsterdam:20261209T193000
DTEND;TZID=Europe/Amsterdam:20261209T210000
DTSTAMP:20260423T200408
CREATED:20251112T071053Z
LAST-MODIFIED:20251112T072142Z
UID:2854-1796844600-1796850000@vela.nl
SUMMARY:Q & A 2026
DESCRIPTION:Op woensdagavond 9 december organiseert de Vela een online Q&A over …… \nDeze jaarlijkse traditie op de tweede woensdag in december trekt veel belangstelling. \nMeer weten of wil je zelf de hoofd-spreker zijn?  Mail dan naar secretariaat@vela.nl of bel 06 -51 84 41 46. \n \nActie Bring a Friend:  \nNeem een vriend\, collega of bekende mee naar dit VeLA- evenement.  \nSamen genieten jullie van wat deze activiteit te bieden heeft. \n#netwerken #kennisopdoen #plezier
URL:https://vela.nl/evenement/q-a-2/
END:VEVENT
END:VCALENDAR