BEGIN:VCALENDAR
VERSION:2.0
PRODID:-//VELA - ECPv6.15.20//NONSGML v1.0//EN
CALSCALE:GREGORIAN
METHOD:PUBLISH
X-ORIGINAL-URL:https://vela.nl
X-WR-CALDESC:Evenementen voor VELA
REFRESH-INTERVAL;VALUE=DURATION:PT1H
X-Robots-Tag:noindex
X-PUBLISHED-TTL:PT1H
BEGIN:VTIMEZONE
TZID:Europe/Amsterdam
BEGIN:DAYLIGHT
TZOFFSETFROM:+0100
TZOFFSETTO:+0200
TZNAME:CEST
DTSTART:20250330T010000
END:DAYLIGHT
BEGIN:STANDARD
TZOFFSETFROM:+0200
TZOFFSETTO:+0100
TZNAME:CET
DTSTART:20251026T010000
END:STANDARD
BEGIN:DAYLIGHT
TZOFFSETFROM:+0100
TZOFFSETTO:+0200
TZNAME:CEST
DTSTART:20260329T010000
END:DAYLIGHT
BEGIN:STANDARD
TZOFFSETFROM:+0200
TZOFFSETTO:+0100
TZNAME:CET
DTSTART:20261025T010000
END:STANDARD
BEGIN:DAYLIGHT
TZOFFSETFROM:+0100
TZOFFSETTO:+0200
TZNAME:CEST
DTSTART:20270328T010000
END:DAYLIGHT
BEGIN:STANDARD
TZOFFSETFROM:+0200
TZOFFSETTO:+0100
TZNAME:CET
DTSTART:20271031T010000
END:STANDARD
END:VTIMEZONE
BEGIN:VEVENT
DTSTART;TZID=Europe/Amsterdam:20260224T153000
DTEND;TZID=Europe/Amsterdam:20260224T210000
DTSTAMP:20260421T112208
CREATED:20260114T163750Z
LAST-MODIFIED:20260114T164517Z
UID:2939-1771947000-1771966800@vela.nl
SUMMARY:VLM | Winter Event 2026
DESCRIPTION:Benieuwd hoe het grootste magazijn van Nederland eruit ziet? Tijdens het VLM-winterevent krijg je een rondleiding én hoor je lezingen van o.a. VeLA-lid Jeroen van den Berg en andere sprekers over actuele warehousing-trends. \nHet VLM Winterevent op dinsdag 24 februari staat in het teken van inspiratie\, verbinden en kennisdelen over de ontwikkeling van logistiek en warehousing. \nIn een snel veranderend speelveld van schaalvergroting\, digitalisering\, automatisering en personeelsschaarste biedt dit event deelnemers inzicht in hoe state-of-the-art warehousing er vandaag uitziet én hoe organisaties zich hierop voorbereiden. Door praktijk\, historie en toekomstvisie samen te brengen\, helpt dit event logistieke professionals beter onderbouwde keuzes te maken voor hun eigen organisatie. \nVoor meer informatie\, zie https://lnkd.in/eYKkHuSz\nDit evenement is gratis toegankelijk voor VLM / JLN leden.\nEr is beperkt plaats voor niet‑leden en vol = vol! \nLocatie is DSV\, Exportweg 1\, 4782 JA Moerdijk
URL:https://vela.nl/evenement/vlm-winterevenement-2026/
ATTACH;FMTTYPE=image/jpeg:https://vela.nl/wp-content/uploads/2026/01/20260224-VLM-winterevenement.jpg
END:VEVENT
END:VCALENDAR