BEGIN:VCALENDAR
VERSION:2.0
PRODID:-//VELA - ECPv6.15.20//NONSGML v1.0//EN
CALSCALE:GREGORIAN
METHOD:PUBLISH
X-ORIGINAL-URL:https://vela.nl
X-WR-CALDESC:Evenementen voor VELA
REFRESH-INTERVAL;VALUE=DURATION:PT1H
X-Robots-Tag:noindex
X-PUBLISHED-TTL:PT1H
BEGIN:VTIMEZONE
TZID:Europe/Amsterdam
BEGIN:DAYLIGHT
TZOFFSETFROM:+0100
TZOFFSETTO:+0200
TZNAME:CEST
DTSTART:20250330T010000
END:DAYLIGHT
BEGIN:STANDARD
TZOFFSETFROM:+0200
TZOFFSETTO:+0100
TZNAME:CET
DTSTART:20251026T010000
END:STANDARD
BEGIN:DAYLIGHT
TZOFFSETFROM:+0100
TZOFFSETTO:+0200
TZNAME:CEST
DTSTART:20260329T010000
END:DAYLIGHT
BEGIN:STANDARD
TZOFFSETFROM:+0200
TZOFFSETTO:+0100
TZNAME:CET
DTSTART:20261025T010000
END:STANDARD
BEGIN:DAYLIGHT
TZOFFSETFROM:+0100
TZOFFSETTO:+0200
TZNAME:CEST
DTSTART:20270328T010000
END:DAYLIGHT
BEGIN:STANDARD
TZOFFSETFROM:+0200
TZOFFSETTO:+0100
TZNAME:CET
DTSTART:20271031T010000
END:STANDARD
END:VTIMEZONE
BEGIN:VEVENT
DTSTART;TZID=Europe/Amsterdam:20260522T090000
DTEND;TZID=Europe/Amsterdam:20260522T123000
DTSTAMP:20260421T100023
CREATED:20260327T074838Z
LAST-MODIFIED:20260327T074838Z
UID:3016-1779440400-1779453000@vela.nl
SUMMARY:VLM | AI slim inzetten in je dagelijkse werk
DESCRIPTION:Onze zusterverenging organiseert:\nBASISTRAINING |  AI slim inzetten in je dagelijkse werk!\nAI is niet de toekomst\, maar het heden. In een wereld waarin technologie razendsnel evolueert\, wordt AI-vaardigheid steeds minder een keuze en steeds meer een noodzaak. \nNiet omdat artificiële intelligentie (AI) je werk overneemt\, maar omdat professionals die AI effectief inzetten productiever zijn\, betere resultaten leveren en meer tijd overhouden voor werk waar ze écht energie van krijgen. Als jij AI niet gaat gebruiken\, word je de minder aantrekkelijke optie: langzamer\, duurder en met minder impact. En die kloof? Die wordt elke dag groter. \nPROGRAMMA: \nIn deze basistraining blijven we niet alleen bij wat AI is\, wat je ermee kunt en hoe je het veilig gebruikt\, maar we maken ook meteen de stap naar de praktijk. \nTijdens deze sessie neem je als deelnemer een eigen werkproces in gedachten en gaan we hands-on aan de slag om een AI-assistent te bouwen die repeterende werkzaamheden kan overnemen. Denk bijvoorbeeld aan het automatisch structureren van informatie\, het voorbereiden van teksten of het ondersteunen bij terugkerende taken. Zo ervaar jij direct hoe AI echt kan helpen in jouw dagelijkse werk. Een échte hands-on sessie dus! Niet alleen praten maar juist lekker aan de slag. Allemaal in je eigen AI-chatbot account\, of een AI-chatbot naar keuze.* \nProgramma: \n\n09.00 Ontvangst\n09.30 Aanvang AI Basis-training\n12.30 Afsluiting\n12.30 Lunch (vrijblijvend)\n13.00 Einde bijeenkomst\n\n*) AI-chatbot licentie?\nHeb je nog geen licentie\, dan kun je tijdens de training of net ervoor een proefperiode aanvragen bij ChatGPT\, Claude of Gemini.\nMocht je vanuit je werkomgeving al toegang hebben tot CoPilot\, dan kun je tijdens de training daarmee oefenen. \nCATERING:\nVoor een lunch wordt gezorgd\, geef bij je inschrijving aan of je hier gebruik van wilt maken. \nVOOR WIE:\nLogistieke professionals\, Directieleden en/of Personeelsmanagers die nog geen ervaring hebben in het werken met AI. Of gebruik je AI nauwelijks of slechts af en toe en dan vooral als vervanger voor het opzoeken in Google? Dan is deze training voor jou! \nLOCATIE:\nHogeschool Utrecht\nGebouw Padualaan 99 \nKijk op deze website voor de juiste routebeschrijving.\nTARIEF: \n\n€ 50\,- voor leden van VLM / JLN\n€ 150\,- voor niet leden\n\nNADERE INFORMATIE: \n\nDe groepsgrootte bestaat uit maximaal 12 deelnemers\, zodat er voldoende aandacht is voor persoonlijke uitleg en vragen.\nDeelname aan de training geschiedt op volgorde van inschrijving.\n\nHierbij geldt dat leden van VLM en JLN voorrang krijgen op niet-leden. Indien de training vol is\, worden niet-leden op een wachtlijst geplaatst en kunnen zij deelnemen indien er plaatsen beschikbaar komen. Wanneer deelname voor een niet-lid niet mogelijk blijkt vanwege plaatsgebrek\, wordt het reeds betaalde inschrijfgeld volledig teruggestort.\nBij veel belangstelling organiseren wij nog een training\, dus schrijf je gerust in ook al is dat op de wachtlijst.\n\n\nDe training start stipt op het aangegeven tijdstip\, zorg daarom dat op tijd bent.\nNeem een laptop mee\, dit is noodzakelijk voor het volgen van de training.\nNa afloop is er ruimte voor vragen en onderling netwerken.\nKosteloos annuleren kan tot uiterlijk 15 dagen voor aanvang.\n\n\nℹ️ Joyce de Jong – van Dalen en Roberto Palland zijn vanuit de VLM betrokken bij de organisatie van dit event.  \n\n📸 Bij evenementen worden indien nodig persoonsgegevens genoteerd en foto en video opnames gemaakt. Wanneer je hierbij aanwezig bent\, geef je de organisatie toestemming om deze informatie en beelden (foto en video) waar je op staat rechtenvrij te gebruiken voor onze (JLN en/of VLM) communicatiedoeleinden. \nBen jij geen VLM-lid maar wel VeLA-lid? Ook dan ben je van harte welkom. Geef je op via info@vlm.nl . \n 
URL:https://vela.nl/evenement/vlm-ai-slim-inzetten-in-je-dagelijkse-werk/
ATTACH;FMTTYPE=image/png:https://vela.nl/wp-content/uploads/2026/03/20260522-VeLA-VLM-AI-basistraining.png
END:VEVENT
BEGIN:VEVENT
DTSTART;TZID=Europe/Amsterdam:20260522T130000
DTEND;TZID=Europe/Amsterdam:20260522T160000
DTSTAMP:20260421T100023
CREATED:20260327T075356Z
LAST-MODIFIED:20260327T080141Z
UID:3019-1779454800-1779465600@vela.nl
SUMMARY:VLM | Met AI werkprocessen slimmer automatiseren
DESCRIPTION:Onze zusterverenging organiseert:\nTRAINING voor GEVORDERDEN |  Met AI jouw werkprocessen slimmer automatiseren!\nHallo ‘AI-Pro’! Jij begrijpt dat AI al niet meer weg te denken is in jouw werkzaamheden. \nMaar… Je wilt graag een stap verder zetten dan alleen de basis mogelijkheden van AI. Dat kan door deze training te volgen! Want deze sessie gaat meer richting agentic AI\, dus AI echt inzetten om (autonoom) taken uit te voeren. Zodat je nog minder zelf hoeft te doen. Uiteraard is “hoe kan dit veilig” daarbij een groot component. \n🚀 MEER UITDAGEND DUS!\nVoor jou als gevorderde en enthousiaste gebruiker gaan we aan de slag met: \n\nautomatisering van werkprocessen\nverschillende systemen of tools aan elkaar koppelen\nAI inzetten om processen slimmer en consistenter te maken\n\nZo ervaar jij direct hoe AI echt kan helpen in het slimmer en consistenter automatiseren van jouw werkprocessen. Een échte hands-on sessie in jouw (betaalde) AI-chatbot account.* \n👩🏼‍🎓 PROGRAMMA: \n\n12.30 Ontvangst\n12.30 Lunch (vrijblijvend)\n13.00 Aanvang AI training gevorderden\n16.00 Afsluiting\n16.30 Einde bijeenkomst\n\n*) AI-chatbot licentie?\nHeb je nog geen licentie\, dan kun je tijdens de training of net ervoor een proefperiode aanvragen bij ChatGPT\, Claude of Gemini.\nMocht je vanuit je werkomgeving al toegang hebben tot CoPilot\, dan kun je tijdens de training daarmee oefenen. \n👨‍🍳 CATERING:\nJe kunt vooraf gebruik maken van een lunch\, geef bij je inschrijving aan of je hier bij aanwezig bent. \n🫂 VOOR WIE:\nLogistieke professionals\, Directieleden en/of Personeelsmanagers die wél ervaring hebben in het werken met AI. \n📍LOCATIE:\nHogeschool Utrecht\nGebouw Padualaan 99 \n🌍 Kijk op deze website voor de juiste routebeschrijving. \n💶 TARIEF: \n\n€ 50\,- voor leden van VLM / JLN\n€ 150\,- voor niet leden\n\n\nℹ️ NADERE INFORMATIE: \n\nDe groepsgrootte bestaat uit maximaal 12 deelnemers\, zodat er voldoende aandacht is voor persoonlijke uitleg en vragen.\nDeelname aan de training geschiedt op volgorde van inschrijving.\n\nHierbij geldt dat leden van VLM en JLN voorrang krijgen op niet-leden. Indien de training vol is\, worden niet-leden op een wachtlijst geplaatst en kunnen zij deelnemen indien er plaatsen beschikbaar komen. Wanneer deelname voor een niet-lid niet mogelijk blijkt vanwege plaatsgebrek\, wordt het reeds betaalde inschrijfgeld volledig teruggestort.\nBij veel belangstelling organiseren wij nog een training\, dus schrijf je gerust in ook al is dat op de wachtlijst.\n\n\nDe training start stipt op het aangegeven tijdstip\, zorg daarom dat op tijd bent.\nNeem een laptop mee\, dit is noodzakelijk voor het volgen van de training.\nNa afloop is er ruimte voor vragen en onderling netwerken.\nKosteloos annuleren kan tot uiterlijk 15 dagen voor aanvang.\n\n\nℹ️ Joyce de Jong – van Dalen en Roberto Palland zijn vanuit de VLM betrokken bij de organisatie van dit event.  \n\n📸 Bij evenementen worden indien nodig persoonsgegevens genoteerd en foto en video opnames gemaakt. Wanneer je hierbij aanwezig bent\, geef je de organisatie toestemming om deze informatie en beelden (foto en video) waar je op staat rechtenvrij te gebruiken voor onze (JLN en/of VLM) communicatiedoeleinden. \nBen jij geen VLM-lid maar wel VeLA-lid? Ook dan ben je van harte welkom. Geef je op via info@vlm.nl .
URL:https://vela.nl/evenement/vlm-met-ai-werkprocessen-slimmer-automatiseren/
ATTACH;FMTTYPE=image/png:https://vela.nl/wp-content/uploads/2026/03/20260522-VeLA-VLM-AI-gevorderden.png
END:VEVENT
END:VCALENDAR