BEGIN:VCALENDAR
VERSION:2.0
PRODID:-//VELA - ECPv6.15.20//NONSGML v1.0//EN
CALSCALE:GREGORIAN
METHOD:PUBLISH
X-WR-CALNAME:VELA
X-ORIGINAL-URL:https://vela.nl
X-WR-CALDESC:Evenementen voor VELA
REFRESH-INTERVAL;VALUE=DURATION:PT1H
X-Robots-Tag:noindex
X-PUBLISHED-TTL:PT1H
BEGIN:VTIMEZONE
TZID:Europe/Amsterdam
BEGIN:DAYLIGHT
TZOFFSETFROM:+0100
TZOFFSETTO:+0200
TZNAME:CEST
DTSTART:20250330T010000
END:DAYLIGHT
BEGIN:STANDARD
TZOFFSETFROM:+0200
TZOFFSETTO:+0100
TZNAME:CET
DTSTART:20251026T010000
END:STANDARD
BEGIN:DAYLIGHT
TZOFFSETFROM:+0100
TZOFFSETTO:+0200
TZNAME:CEST
DTSTART:20260329T010000
END:DAYLIGHT
BEGIN:STANDARD
TZOFFSETFROM:+0200
TZOFFSETTO:+0100
TZNAME:CET
DTSTART:20261025T010000
END:STANDARD
BEGIN:DAYLIGHT
TZOFFSETFROM:+0100
TZOFFSETTO:+0200
TZNAME:CEST
DTSTART:20270328T010000
END:DAYLIGHT
BEGIN:STANDARD
TZOFFSETFROM:+0200
TZOFFSETTO:+0100
TZNAME:CET
DTSTART:20271031T010000
END:STANDARD
END:VTIMEZONE
BEGIN:VEVENT
DTSTART;TZID=Europe/Amsterdam:20260918T143000
DTEND;TZID=Europe/Amsterdam:20260918T210000
DTSTAMP:20260423T135205
CREATED:20240127T082121Z
LAST-MODIFIED:20251112T072915Z
UID:2062-1789741800-1789765200@vela.nl
SUMMARY:VeLA-OPEN
DESCRIPTION:Op vrijdagmiddag 18 september is er de zgn. VeLA-OPEN. Een keer per jaar houden de VeLA-leden en haar introducees een sportieve activiteit. \nEr is nog niet bekend wat de inhoud van het programma is. \nHeb jij een idee? Mail dan naar secretariaat@vela.nl of bel 06 -51 84 41 46. \nHet mooie weer is in elk geval besteld! \n \nActie Bring a Friend:  \nNeem een vriend\, collega of bekende mee naar dit VeLA- evenement.  \nSamen genieten jullie van wat deze activiteit te bieden heeft. \n#netwerken #kennisopdoen #plezier \n  \n 
URL:https://vela.nl/evenement/vela-open-kleiduiven-dorhout-mees/
ATTACH;FMTTYPE=image/jpeg:https://vela.nl/wp-content/uploads/2024/01/20240920-VeLA-OPEN-kleiduivenschieten-scaled.jpg
END:VEVENT
END:VCALENDAR